BEGIN:VCALENDAR
VERSION:2.0
PRODID:-//horsealert.local//NONSGML kigkonsult.se iCalcreator 2.10.5//
CALSCALE:GREGORIAN
X-WR-TIMEZONE:Europe/Dublin
BEGIN:VTIMEZONE
TZID:Etc/GMT-1
BEGIN:STANDARD
DTSTART:20010101T000000
TZOFFSETFROM:+0100
TZOFFSETTO:+0100
TZNAME:GMT +01:00
END:STANDARD
END:VTIMEZONE
BEGIN:VEVENT
UID:20260425T142725CEST-3764odu5Xe@horsealert.local
DTSTAMP:20260425T120425Z
CATEGORIES:Horse Alerts
DESCRIPTION:Etihad Airways Falmouth Stakes \(British Champions Series\) \(F
 illies\' Group 1\)
DTSTART:20130712T144000
LOCATION:England
SUMMARY:Horse Racing:Etihad Airways Falmouth Stakes \(British Champions Ser
 ies\) \(Fillies\' Group 1\)
END:VEVENT
END:VCALENDAR
