BEGIN:VCALENDAR
VERSION:2.0
PRODID:-//horsealert.local//NONSGML kigkonsult.se iCalcreator 2.10.5//
CALSCALE:GREGORIAN
X-WR-TIMEZONE:Europe/Dublin
BEGIN:VTIMEZONE
TZID:Etc/GMT-1
BEGIN:STANDARD
DTSTART:20010101T000000
TZOFFSETFROM:+0100
TZOFFSETTO:+0100
TZNAME:GMT +01:00
END:STANDARD
END:VTIMEZONE
BEGIN:VEVENT
UID:20260425T142711CEST-87333WAV4F@horsealert.local
DTSTAMP:20260425T120411Z
CATEGORIES:Horse Alerts
DESCRIPTION:Duchess Of Cambridge Stakes \(Sponsored By Betfred\) \(Formerly
  The Cherry Hinton Stakes\) \(Fillies\' Group 2\)
DTSTART:20130712T141000
LOCATION:England
SUMMARY:Horse Racing:Duchess Of Cambridge Stakes \(Sponsored By Betfred\) \
 (Formerly The Cherry Hinton Stakes\) \(Fillies\' Group 2\)
END:VEVENT
END:VCALENDAR
