BEGIN:VCALENDAR
VERSION:2.0
PRODID:-//horsealert.local//NONSGML kigkonsult.se iCalcreator 2.10.5//
CALSCALE:GREGORIAN
X-WR-TIMEZONE:Europe/Dublin
BEGIN:VTIMEZONE
TZID:Etc/GMT-1
BEGIN:STANDARD
DTSTART:20010101T000000
TZOFFSETFROM:+0100
TZOFFSETTO:+0100
TZNAME:GMT +01:00
END:STANDARD
END:VTIMEZONE
BEGIN:VEVENT
UID:20260425T142853CEST-6877MVPVv8@horsealert.local
DTSTAMP:20260425T120453Z
CATEGORIES:Horse Alerts
DESCRIPTION:boylesports.com Download Our App Handicap
DTSTART:20130711T151500
LOCATION:England
SUMMARY:Horse Racing:boylesports.com Download Our App Handicap
END:VEVENT
END:VCALENDAR
