BEGIN:VCALENDAR
VERSION:2.0
PRODID:-//horsealert.local//NONSGML kigkonsult.se iCalcreator 2.10.5//
CALSCALE:GREGORIAN
X-WR-TIMEZONE:Europe/Dublin
BEGIN:VTIMEZONE
TZID:Etc/GMT-1
BEGIN:STANDARD
DTSTART:20010101T000000
TZOFFSETFROM:+0100
TZOFFSETTO:+0100
TZNAME:GMT +01:00
END:STANDARD
END:VTIMEZONE
BEGIN:VEVENT
UID:20260425T142859CEST-8729J0zvet@horsealert.local
DTSTAMP:20260425T120459Z
CATEGORIES:Horse Alerts
DESCRIPTION:Mike & The Mechanics Live 18.7.13 Handicap \(Jockey Club Grassr
 oots Sprint Flat Series Qualifier\)
DTSTART:20130711T205500
LOCATION:England
SUMMARY:Horse Racing:Mike & The Mechanics Live 18.7.13 Handicap \(Jockey Cl
 ub Grassroots Sprint Flat Series Qualifier\)
END:VEVENT
END:VCALENDAR
