BEGIN:VCALENDAR
VERSION:2.0
PRODID:-//horsealert.local//NONSGML kigkonsult.se iCalcreator 2.10.5//
CALSCALE:GREGORIAN
X-WR-TIMEZONE:Europe/Dublin
BEGIN:VTIMEZONE
TZID:Etc/GMT-1
BEGIN:STANDARD
DTSTART:20010101T000000
TZOFFSETFROM:+0100
TZOFFSETTO:+0100
TZNAME:GMT +01:00
END:STANDARD
END:VTIMEZONE
BEGIN:VEVENT
UID:20260425T142616CEST-0687uGRecT@horsealert.local
DTSTAMP:20260425T120416Z
CATEGORIES:Horse Alerts
DESCRIPTION:5th Regiment Royal Artillery Heimdall Handicap \(For The Turmer
 ic Challenge Trophy\)
DTSTART:20130710T155000
LOCATION:England
SUMMARY:Horse Racing:5th Regiment Royal Artillery Heimdall Handicap \(For T
 he Turmeric Challenge Trophy\)
END:VEVENT
END:VCALENDAR
