BEGIN:VCALENDAR
VERSION:2.0
PRODID:-//horsealert.local//NONSGML kigkonsult.se iCalcreator 2.10.5//
CALSCALE:GREGORIAN
X-WR-TIMEZONE:Europe/Dublin
BEGIN:VTIMEZONE
TZID:Etc/GMT-1
BEGIN:STANDARD
DTSTART:20010101T000000
TZOFFSETFROM:+0100
TZOFFSETTO:+0100
TZNAME:GMT +01:00
END:STANDARD
END:VTIMEZONE
BEGIN:VEVENT
UID:20260425T142709CEST-2252pS959D@horsealert.local
DTSTAMP:20260425T120409Z
CATEGORIES:Horse Alerts
DESCRIPTION:E.B.F. Quarrydale Academy Happily Supporting Nottinghamshire Ra
 cing Maiden Stakes
DTSTART:20130709T183500
LOCATION:England
SUMMARY:Horse Racing:E.B.F. Quarrydale Academy Happily Supporting Nottingha
 mshire Racing Maiden Stakes
END:VEVENT
END:VCALENDAR
