BEGIN:VCALENDAR
VERSION:2.0
PRODID:-//horsealert.local//NONSGML kigkonsult.se iCalcreator 2.10.5//
CALSCALE:GREGORIAN
X-WR-TIMEZONE:Europe/Dublin
BEGIN:VTIMEZONE
TZID:Etc/GMT-1
BEGIN:STANDARD
DTSTART:20010101T000000
TZOFFSETFROM:+0100
TZOFFSETTO:+0100
TZNAME:GMT +01:00
END:STANDARD
END:VTIMEZONE
BEGIN:VEVENT
UID:20260425T142611CEST-4248ZFcD8k@horsealert.local
DTSTAMP:20260425T120411Z
CATEGORIES:Horse Alerts
DESCRIPTION:Red Shirt Night Beer Festival 19th July Maiden Stakes
DTSTART:20130709T170000
LOCATION:England
SUMMARY:Horse Racing:Red Shirt Night Beer Festival 19th July Maiden Stakes
END:VEVENT
END:VCALENDAR
