BEGIN:VCALENDAR
VERSION:2.0
PRODID:-//horsealert.local//NONSGML kigkonsult.se iCalcreator 2.10.5//
CALSCALE:GREGORIAN
X-WR-TIMEZONE:Europe/Dublin
BEGIN:VTIMEZONE
TZID:Etc/GMT-1
BEGIN:STANDARD
DTSTART:20010101T000000
TZOFFSETFROM:+0100
TZOFFSETTO:+0100
TZNAME:GMT +01:00
END:STANDARD
END:VTIMEZONE
BEGIN:VEVENT
UID:20260425T142604CEST-6540s9AvU7@horsealert.local
DTSTAMP:20260425T120404Z
CATEGORIES:Horse Alerts
DESCRIPTION:Weatherbys VAT Services Pipalong Stakes \(Fillies\' Listed\)
DTSTART:20130709T160000
LOCATION:England
SUMMARY:Horse Racing:Weatherbys VAT Services Pipalong Stakes \(Fillies\' Li
 sted\)
END:VEVENT
END:VCALENDAR
