BEGIN:VCALENDAR
VERSION:2.0
PRODID:-//horsealert.local//NONSGML kigkonsult.se iCalcreator 2.10.5//
CALSCALE:GREGORIAN
X-WR-TIMEZONE:Europe/Dublin
BEGIN:VTIMEZONE
TZID:Etc/GMT-1
BEGIN:STANDARD
DTSTART:20010101T000000
TZOFFSETFROM:+0100
TZOFFSETTO:+0100
TZNAME:GMT +01:00
END:STANDARD
END:VTIMEZONE
BEGIN:VEVENT
UID:20260425T142710CEST-9296wFF7FW@horsealert.local
DTSTAMP:20260425T120410Z
CATEGORIES:Horse Alerts
DESCRIPTION:Sandicliffe Your Great Motoring Family Handicap
DTSTART:20130706T173500
LOCATION:England
SUMMARY:Horse Racing:Sandicliffe Your Great Motoring Family Handicap
END:VEVENT
END:VCALENDAR
