BEGIN:VCALENDAR
VERSION:2.0
PRODID:-//horsealert.local//NONSGML kigkonsult.se iCalcreator 2.10.5//
CALSCALE:GREGORIAN
X-WR-TIMEZONE:Europe/Dublin
BEGIN:VTIMEZONE
TZID:Etc/GMT-1
BEGIN:STANDARD
DTSTART:20010101T000000
TZOFFSETFROM:+0100
TZOFFSETTO:+0100
TZNAME:GMT +01:00
END:STANDARD
END:VTIMEZONE
BEGIN:VEVENT
UID:20260425T142738CEST-8453X1zkdF@horsealert.local
DTSTAMP:20260425T120438Z
CATEGORIES:Horse Alerts
DESCRIPTION:Tuskar Rock Beginners Chase \(Div 2\)
DTSTART:20130705T201000
LOCATION:Eire
SUMMARY:Horse Racing:Tuskar Rock Beginners Chase \(Div 2\)
END:VEVENT
END:VCALENDAR
