BEGIN:VCALENDAR
VERSION:2.0
PRODID:-//horsealert.local//NONSGML kigkonsult.se iCalcreator 2.10.5//
CALSCALE:GREGORIAN
X-WR-TIMEZONE:Europe/Dublin
BEGIN:VTIMEZONE
TZID:Etc/GMT-1
BEGIN:STANDARD
DTSTART:20010101T000000
TZOFFSETFROM:+0100
TZOFFSETTO:+0100
TZNAME:GMT +01:00
END:STANDARD
END:VTIMEZONE
BEGIN:VEVENT
UID:20260425T142430CEST-2660D0WIj3@horsealert.local
DTSTAMP:20260425T120430Z
CATEGORIES:Horse Alerts
DESCRIPTION:Coral Marathon \(Registered As The Esher Stakes\) \(Listed\)
DTSTART:20130706T162500
LOCATION:England
SUMMARY:Horse Racing:Coral Marathon \(Registered As The Esher Stakes\) \(Li
 sted\)
END:VEVENT
END:VCALENDAR
