BEGIN:VCALENDAR
VERSION:2.0
PRODID:-//horsealert.local//NONSGML kigkonsult.se iCalcreator 2.10.5//
CALSCALE:GREGORIAN
X-WR-TIMEZONE:Europe/Dublin
BEGIN:VTIMEZONE
TZID:Etc/GMT-1
BEGIN:STANDARD
DTSTART:20010101T000000
TZOFFSETFROM:+0100
TZOFFSETTO:+0100
TZNAME:GMT +01:00
END:STANDARD
END:VTIMEZONE
BEGIN:VEVENT
UID:20260425T142921CEST-832505groL@horsealert.local
DTSTAMP:20260425T120421Z
CATEGORIES:Horse Alerts
DESCRIPTION:British Stallion Studs James Laing Memorial E.B.F. Median Aucti
 on Maiden Stakes
DTSTART:20130704T183500
LOCATION:England
SUMMARY:Horse Racing:British Stallion Studs James Laing Memorial E.B.F. Med
 ian Auction Maiden Stakes
END:VEVENT
END:VCALENDAR
