BEGIN:VCALENDAR
VERSION:2.0
PRODID:-//horsealert.local//NONSGML kigkonsult.se iCalcreator 2.10.5//
CALSCALE:GREGORIAN
X-WR-TIMEZONE:Europe/Dublin
BEGIN:VTIMEZONE
TZID:Etc/GMT-1
BEGIN:STANDARD
DTSTART:20010101T000000
TZOFFSETFROM:+0100
TZOFFSETTO:+0100
TZNAME:GMT +01:00
END:STANDARD
END:VTIMEZONE
BEGIN:VEVENT
UID:20260425T142615CEST-5164lcVJbL@horsealert.local
DTSTAMP:20260425T120415Z
CATEGORIES:Horse Alerts
DESCRIPTION:Winners Are Welcome At Betdaq Handicap \(London Mile Qualifier\
 )
DTSTART:20130703T212000
LOCATION:England
SUMMARY:Horse Racing:Winners Are Welcome At Betdaq Handicap \(London Mile Q
 ualifier\)
END:VEVENT
END:VCALENDAR
