BEGIN:VCALENDAR
VERSION:2.0
PRODID:-//horsealert.local//NONSGML kigkonsult.se iCalcreator 2.10.5//
CALSCALE:GREGORIAN
X-WR-TIMEZONE:Europe/Dublin
BEGIN:VTIMEZONE
TZID:Etc/GMT-1
BEGIN:STANDARD
DTSTART:20010101T000000
TZOFFSETFROM:+0100
TZOFFSETTO:+0100
TZNAME:GMT +01:00
END:STANDARD
END:VTIMEZONE
BEGIN:VEVENT
UID:20260425T142613CEST-61529bluaE@horsealert.local
DTSTAMP:20260425T120413Z
CATEGORIES:Horse Alerts
DESCRIPTION:Leonard Curtis/British Stallion Studs E.B.F. Maiden Fillies\' S
 takes
DTSTART:20130703T195000
LOCATION:England
SUMMARY:Horse Racing:Leonard Curtis/British Stallion Studs E.B.F. Maiden Fi
 llies\' Stakes
END:VEVENT
END:VCALENDAR
