BEGIN:VCALENDAR
VERSION:2.0
PRODID:-//horsealert.local//NONSGML kigkonsult.se iCalcreator 2.10.5//
CALSCALE:GREGORIAN
X-WR-TIMEZONE:Europe/Dublin
BEGIN:VTIMEZONE
TZID:Etc/GMT-1
BEGIN:STANDARD
DTSTART:20010101T000000
TZOFFSETFROM:+0100
TZOFFSETTO:+0100
TZNAME:GMT +01:00
END:STANDARD
END:VTIMEZONE
BEGIN:VEVENT
UID:20260425T160258CEST-6574APiUCu@horsealert.local
DTSTAMP:20260425T140458Z
CATEGORIES:Horse Alerts
DESCRIPTION:Dubai Duty Free Tennis Championship European Breeders Fund Hand
 icap \(60-100\)
DTSTART:20130629T191000
LOCATION:Eire
SUMMARY:Horse Racing:Dubai Duty Free Tennis Championship European Breeders 
 Fund Handicap \(60-100\)
END:VEVENT
END:VCALENDAR
