BEGIN:VCALENDAR
VERSION:2.0
PRODID:-//horsealert.local//NONSGML kigkonsult.se iCalcreator 2.10.5//
CALSCALE:GREGORIAN
X-WR-TIMEZONE:Europe/Dublin
BEGIN:VTIMEZONE
TZID:Etc/GMT-1
BEGIN:STANDARD
DTSTART:20010101T000000
TZOFFSETFROM:+0100
TZOFFSETTO:+0100
TZNAME:GMT +01:00
END:STANDARD
END:VTIMEZONE
BEGIN:VEVENT
UID:20260425T160309CEST-9475U66z2F@horsealert.local
DTSTAMP:20260425T140409Z
CATEGORIES:Horse Alerts
DESCRIPTION:Ma Kelly\'s Blackpool Handicap
DTSTART:20130629T144500
LOCATION:England
SUMMARY:Horse Racing:Ma Kelly\'s Blackpool Handicap
END:VEVENT
END:VCALENDAR
