BEGIN:VCALENDAR
VERSION:2.0
PRODID:-//horsealert.local//NONSGML kigkonsult.se iCalcreator 2.10.5//
CALSCALE:GREGORIAN
X-WR-TIMEZONE:Europe/Dublin
BEGIN:VTIMEZONE
TZID:Etc/GMT-1
BEGIN:STANDARD
DTSTART:20010101T000000
TZOFFSETFROM:+0100
TZOFFSETTO:+0100
TZNAME:GMT +01:00
END:STANDARD
END:VTIMEZONE
BEGIN:VEVENT
UID:20260425T160238CEST-9908zLLVaC@horsealert.local
DTSTAMP:20260425T140438Z
CATEGORIES:Horse Alerts
DESCRIPTION:Tipperary Family Day Saturday 13th July Handicap \(47-65\)
DTSTART:20130627T190000
LOCATION:Eire
SUMMARY:Horse Racing:Tipperary Family Day Saturday 13th July Handicap \(47-
 65\)
END:VEVENT
END:VCALENDAR
