BEGIN:VCALENDAR
VERSION:2.0
PRODID:-//horsealert.local//NONSGML kigkonsult.se iCalcreator 2.10.5//
CALSCALE:GREGORIAN
X-WR-TIMEZONE:Europe/Dublin
BEGIN:VTIMEZONE
TZID:Etc/GMT-1
BEGIN:STANDARD
DTSTART:20010101T000000
TZOFFSETFROM:+0100
TZOFFSETTO:+0100
TZNAME:GMT +01:00
END:STANDARD
END:VTIMEZONE
BEGIN:VEVENT
UID:20260425T160506CEST-0705z5j8kI@horsealert.local
DTSTAMP:20260425T140406Z
CATEGORIES:Horse Alerts
DESCRIPTION:Asset Finance Handicap \(Jockey Club Grassroots Sprint Series Q
 ualifier\)
DTSTART:20130627T151000
LOCATION:England
SUMMARY:Horse Racing:Asset Finance Handicap \(Jockey Club Grassroots Sprint
  Series Qualifier\)
END:VEVENT
END:VCALENDAR
