BEGIN:VCALENDAR
VERSION:2.0
PRODID:-//horsealert.local//NONSGML kigkonsult.se iCalcreator 2.10.5//
CALSCALE:GREGORIAN
X-WR-TIMEZONE:Europe/Dublin
BEGIN:VTIMEZONE
TZID:Etc/GMT-1
BEGIN:STANDARD
DTSTART:20010101T000000
TZOFFSETFROM:+0100
TZOFFSETTO:+0100
TZNAME:GMT +01:00
END:STANDARD
END:VTIMEZONE
BEGIN:VEVENT
UID:20260425T160408CEST-45557mH7zR@horsealert.local
DTSTAMP:20260425T140408Z
CATEGORIES:Horse Alerts
DESCRIPTION:Norman Macmillan Cancer Research On Facebook Mares\' Standard O
 pen NH Flat Race \(Div 2\)
DTSTART:20130626T154000
LOCATION:England
SUMMARY:Horse Racing:Norman Macmillan Cancer Research On Facebook Mares\' S
 tandard Open NH Flat Race \(Div 2\)
END:VEVENT
END:VCALENDAR
