BEGIN:VCALENDAR
VERSION:2.0
PRODID:-//horsealert.local//NONSGML kigkonsult.se iCalcreator 2.10.5//
CALSCALE:GREGORIAN
X-WR-TIMEZONE:Europe/Dublin
BEGIN:VTIMEZONE
TZID:Etc/GMT-1
BEGIN:STANDARD
DTSTART:20010101T000000
TZOFFSETFROM:+0100
TZOFFSETTO:+0100
TZNAME:GMT +01:00
END:STANDARD
END:VTIMEZONE
BEGIN:VEVENT
UID:20260425T160417CEST-9093OPhT13@horsealert.local
DTSTAMP:20260425T140417Z
CATEGORIES:Horse Alerts
DESCRIPTION:Prosperous Financial Services Supporting North Kildare Chamber 
 Maiden
DTSTART:20130626T183000
LOCATION:Eire
SUMMARY:Horse Racing:Prosperous Financial Services Supporting North Kildare
  Chamber Maiden
END:VEVENT
END:VCALENDAR
