BEGIN:VCALENDAR
VERSION:2.0
PRODID:-//horsealert.local//NONSGML kigkonsult.se iCalcreator 2.10.5//
CALSCALE:GREGORIAN
X-WR-TIMEZONE:Europe/Dublin
BEGIN:VTIMEZONE
TZID:Etc/GMT-1
BEGIN:STANDARD
DTSTART:20010101T000000
TZOFFSETFROM:+0100
TZOFFSETTO:+0100
TZNAME:GMT +01:00
END:STANDARD
END:VTIMEZONE
BEGIN:VEVENT
UID:20260425T160236CEST-5276v4BxFv@horsealert.local
DTSTAMP:20260425T140436Z
CATEGORIES:Horse Alerts
DESCRIPTION:British Stallion Studs E.B.F. Ashbrittle Stud Maiden Fillies\' 
 Stakes
DTSTART:20130626T142000
LOCATION:England
SUMMARY:Horse Racing:British Stallion Studs E.B.F. Ashbrittle Stud Maiden F
 illies\' Stakes
END:VEVENT
END:VCALENDAR
