BEGIN:VCALENDAR
VERSION:2.0
PRODID:-//horsealert.local//NONSGML kigkonsult.se iCalcreator 2.10.5//
CALSCALE:GREGORIAN
X-WR-TIMEZONE:Europe/Dublin
BEGIN:VTIMEZONE
TZID:Etc/GMT-1
BEGIN:STANDARD
DTSTART:20010101T000000
TZOFFSETFROM:+0100
TZOFFSETTO:+0100
TZNAME:GMT +01:00
END:STANDARD
END:VTIMEZONE
BEGIN:VEVENT
UID:20260425T160237CEST-353774De9P@horsealert.local
DTSTAMP:20260425T140437Z
CATEGORIES:Horse Alerts
DESCRIPTION:Betdaq 1st UK Race Commission Free Handicap \(London Middle Dis
 tance Series Qualifier\)
DTSTART:20130626T205000
LOCATION:England
SUMMARY:Horse Racing:Betdaq 1st UK Race Commission Free Handicap \(London M
 iddle Distance Series Qualifier\)
END:VEVENT
END:VCALENDAR
