BEGIN:VCALENDAR
VERSION:2.0
PRODID:-//horsealert.local//NONSGML kigkonsult.se iCalcreator 2.10.5//
CALSCALE:GREGORIAN
X-WR-TIMEZONE:Europe/Dublin
BEGIN:VTIMEZONE
TZID:Etc/GMT-1
BEGIN:STANDARD
DTSTART:20010101T000000
TZOFFSETFROM:+0100
TZOFFSETTO:+0100
TZNAME:GMT +01:00
END:STANDARD
END:VTIMEZONE
BEGIN:VEVENT
UID:20260425T160414CEST-8152oVk2zv@horsealert.local
DTSTAMP:20260425T140414Z
CATEGORIES:Horse Alerts
DESCRIPTION:St Austell Brewery Lady Amateur Riders\' Handicap Hurdle
DTSTART:20130625T204500
LOCATION:England
SUMMARY:Horse Racing:St Austell Brewery Lady Amateur Riders\' Handicap Hurd
 le
END:VEVENT
END:VCALENDAR
