BEGIN:VCALENDAR
VERSION:2.0
PRODID:-//horsealert.local//NONSGML kigkonsult.se iCalcreator 2.10.5//
CALSCALE:GREGORIAN
X-WR-TIMEZONE:Europe/Dublin
BEGIN:VTIMEZONE
TZID:Etc/GMT-1
BEGIN:STANDARD
DTSTART:20010101T000000
TZOFFSETFROM:+0100
TZOFFSETTO:+0100
TZNAME:GMT +01:00
END:STANDARD
END:VTIMEZONE
BEGIN:VEVENT
UID:20260425T160500CEST-8211n1vjhU@horsealert.local
DTSTAMP:20260425T140400Z
CATEGORIES:Horse Alerts
DESCRIPTION:Bet totepool On All Irish Racing Maiden Stakes \(Sunday 5k Bonu
 s Race\)
DTSTART:20130623T144000
LOCATION:England
SUMMARY:Horse Racing:Bet totepool On All Irish Racing Maiden Stakes \(Sunda
 y 5k Bonus Race\)
END:VEVENT
END:VCALENDAR
