BEGIN:VCALENDAR
VERSION:2.0
PRODID:-//horsealert.local//NONSGML kigkonsult.se iCalcreator 2.10.5//
CALSCALE:GREGORIAN
X-WR-TIMEZONE:Europe/Dublin
BEGIN:VTIMEZONE
TZID:Etc/GMT-1
BEGIN:STANDARD
DTSTART:20010101T000000
TZOFFSETFROM:+0100
TZOFFSETTO:+0100
TZNAME:GMT +01:00
END:STANDARD
END:VTIMEZONE
BEGIN:VEVENT
UID:20260425T160346CEST-6567jLPzHc@horsealert.local
DTSTAMP:20260425T140446Z
CATEGORIES:Horse Alerts
DESCRIPTION:totepool Mobile Text Tote To 89660 Handicap Hurdle \(Sunday 5k 
 Bonus Race\)
DTSTART:20130623T153000
LOCATION:England
SUMMARY:Horse Racing:totepool Mobile Text Tote To 89660 Handicap Hurdle \(S
 unday 5k Bonus Race\)
END:VEVENT
END:VCALENDAR
