BEGIN:VCALENDAR
VERSION:2.0
PRODID:-//horsealert.local//NONSGML kigkonsult.se iCalcreator 2.10.5//
CALSCALE:GREGORIAN
X-WR-TIMEZONE:Europe/Dublin
BEGIN:VTIMEZONE
TZID:Etc/GMT-1
BEGIN:STANDARD
DTSTART:20010101T000000
TZOFFSETFROM:+0100
TZOFFSETTO:+0100
TZNAME:GMT +01:00
END:STANDARD
END:VTIMEZONE
BEGIN:VEVENT
UID:20260425T160215CEST-9561PU8u0Z@horsealert.local
DTSTAMP:20260425T140415Z
CATEGORIES:Horse Alerts
DESCRIPTION:British Stallion Studs E.B.F. Market Cross Jewellers Maiden Sta
 kes
DTSTART:20130622T140500
LOCATION:England
SUMMARY:Horse Racing:British Stallion Studs E.B.F. Market Cross Jewellers M
 aiden Stakes
END:VEVENT
END:VCALENDAR
