BEGIN:VCALENDAR
VERSION:2.0
PRODID:-//horsealert.local//NONSGML kigkonsult.se iCalcreator 2.10.5//
CALSCALE:GREGORIAN
X-WR-TIMEZONE:Europe/Dublin
BEGIN:VTIMEZONE
TZID:Etc/GMT-1
BEGIN:STANDARD
DTSTART:20010101T000000
TZOFFSETFROM:+0100
TZOFFSETTO:+0100
TZNAME:GMT +01:00
END:STANDARD
END:VTIMEZONE
BEGIN:VEVENT
UID:20260425T160242CEST-5443rIBjpz@horsealert.local
DTSTAMP:20260425T140442Z
CATEGORIES:Horse Alerts
DESCRIPTION:Anderson Barrowcliff Celebrating 100 Years Handicap \(Qualifier
  For The Redcar Straight-Mile Championship\)
DTSTART:20130621T160000
LOCATION:England
SUMMARY:Horse Racing:Anderson Barrowcliff Celebrating 100 Years Handicap \(
 Qualifier For The Redcar Straight-Mile Championship\)
END:VEVENT
END:VCALENDAR
