BEGIN:VCALENDAR
VERSION:2.0
PRODID:-//horsealert.local//NONSGML kigkonsult.se iCalcreator 2.10.5//
CALSCALE:GREGORIAN
X-WR-TIMEZONE:Europe/Dublin
BEGIN:VTIMEZONE
TZID:Etc/GMT-1
BEGIN:STANDARD
DTSTART:20010101T000000
TZOFFSETFROM:+0100
TZOFFSETTO:+0100
TZNAME:GMT +01:00
END:STANDARD
END:VTIMEZONE
BEGIN:VEVENT
UID:20260425T160414CEST-0793kTwsjZ@horsealert.local
DTSTAMP:20260425T140414Z
CATEGORIES:Horse Alerts
DESCRIPTION:Tercentenary Stakes \(Formerly The Hampton Court Stakes\) \(Gro
 up 3\)
DTSTART:20130620T170000
LOCATION:England
SUMMARY:Horse Racing:Tercentenary Stakes \(Formerly The Hampton Court Stake
 s\) \(Group 3\)
END:VEVENT
END:VCALENDAR
