BEGIN:VCALENDAR
VERSION:2.0
PRODID:-//horsealert.local//NONSGML kigkonsult.se iCalcreator 2.10.5//
CALSCALE:GREGORIAN
X-WR-TIMEZONE:Europe/Dublin
BEGIN:VTIMEZONE
TZID:Etc/GMT-1
BEGIN:STANDARD
DTSTART:20010101T000000
TZOFFSETFROM:+0100
TZOFFSETTO:+0100
TZNAME:GMT +01:00
END:STANDARD
END:VTIMEZONE
BEGIN:VEVENT
UID:20260425T180637CEST-2122mfZTKV@horsealert.local
DTSTAMP:20260425T160437Z
CATEGORIES:Horse Alerts
DESCRIPTION:British Stallion Studs Supporting British Racing E.B.F. Maiden 
 Fillies\' Stakes
DTSTART:20130619T194000
LOCATION:England
SUMMARY:Horse Racing:British Stallion Studs Supporting British Racing E.B.F
 . Maiden Fillies\' Stakes
END:VEVENT
END:VCALENDAR
