BEGIN:VCALENDAR
VERSION:2.0
PRODID:-//horsealert.local//NONSGML kigkonsult.se iCalcreator 2.10.5//
CALSCALE:GREGORIAN
X-WR-TIMEZONE:Europe/Dublin
BEGIN:VTIMEZONE
TZID:Etc/GMT-1
BEGIN:STANDARD
DTSTART:20010101T000000
TZOFFSETFROM:+0100
TZOFFSETTO:+0100
TZNAME:GMT +01:00
END:STANDARD
END:VTIMEZONE
BEGIN:VEVENT
UID:20260425T160227CEST-0626uLFmMk@horsealert.local
DTSTAMP:20260425T140427Z
CATEGORIES:Horse Alerts
DESCRIPTION:TurfTV In Your Betting Shop Apprentice Handicap \(Round Two Of 
 The Hamilton Park Apprentice Rider Series\)
DTSTART:20130619T175500
LOCATION:Scotland
SUMMARY:Horse Racing:TurfTV In Your Betting Shop Apprentice Handicap \(Roun
 d Two Of The Hamilton Park Apprentice Rider Series\)
END:VEVENT
END:VCALENDAR
