BEGIN:VCALENDAR
VERSION:2.0
PRODID:-//horsealert.local//NONSGML kigkonsult.se iCalcreator 2.10.5//
CALSCALE:GREGORIAN
X-WR-TIMEZONE:Europe/Dublin
BEGIN:VTIMEZONE
TZID:Etc/GMT-1
BEGIN:STANDARD
DTSTART:20010101T000000
TZOFFSETFROM:+0100
TZOFFSETTO:+0100
TZNAME:GMT +01:00
END:STANDARD
END:VTIMEZONE
BEGIN:VEVENT
UID:20260425T160409CEST-9376s4rK6g@horsealert.local
DTSTAMP:20260425T140409Z
CATEGORIES:Horse Alerts
DESCRIPTION:Betfair Multiples Cashout \'Do You? Don\'t You?\' Fillies\' Han
 dicap
DTSTART:20130618T190000
LOCATION:England
SUMMARY:Horse Racing:Betfair Multiples Cashout \'Do You? Don\'t You?\' Fill
 ies\' Handicap
END:VEVENT
END:VCALENDAR
