BEGIN:VCALENDAR
VERSION:2.0
PRODID:-//horsealert.local//NONSGML kigkonsult.se iCalcreator 2.10.5//
CALSCALE:GREGORIAN
X-WR-TIMEZONE:Europe/Dublin
BEGIN:VTIMEZONE
TZID:Etc/GMT-1
BEGIN:STANDARD
DTSTART:20010101T000000
TZOFFSETFROM:+0100
TZOFFSETTO:+0100
TZNAME:GMT +01:00
END:STANDARD
END:VTIMEZONE
BEGIN:VEVENT
UID:20260425T160501CEST-5813E717u4@horsealert.local
DTSTAMP:20260425T140401Z
CATEGORIES:Horse Alerts
DESCRIPTION:Cumwhinton Handicap \(Jockey Club Grassroots Middle Distance Se
 ries Qualifier\)
DTSTART:20130617T171500
LOCATION:England
SUMMARY:Horse Racing:Cumwhinton Handicap \(Jockey Club Grassroots Middle Di
 stance Series Qualifier\)
END:VEVENT
END:VCALENDAR
