BEGIN:VCALENDAR
VERSION:2.0
PRODID:-//horsealert.local//NONSGML kigkonsult.se iCalcreator 2.10.5//
CALSCALE:GREGORIAN
X-WR-TIMEZONE:Europe/Dublin
BEGIN:VTIMEZONE
TZID:Etc/GMT-1
BEGIN:STANDARD
DTSTART:20010101T000000
TZOFFSETFROM:+0100
TZOFFSETTO:+0100
TZNAME:GMT +01:00
END:STANDARD
END:VTIMEZONE
BEGIN:VEVENT
UID:20260425T160459CEST-2050U5SHEE@horsealert.local
DTSTAMP:20260425T140459Z
CATEGORIES:Horse Alerts
DESCRIPTION:Watch Racing UK On Sky 432 Handicap \(Jockey Club Grassroots Sp
 rint Series Qualifier\) \(Div 1\)
DTSTART:20130617T144500
LOCATION:England
SUMMARY:Horse Racing:Watch Racing UK On Sky 432 Handicap \(Jockey Club Gras
 sroots Sprint Series Qualifier\) \(Div 1\)
END:VEVENT
END:VCALENDAR
