BEGIN:VCALENDAR
VERSION:2.0
PRODID:-//horsealert.local//NONSGML kigkonsult.se iCalcreator 2.10.5//
CALSCALE:GREGORIAN
X-WR-TIMEZONE:Europe/Dublin
BEGIN:VTIMEZONE
TZID:Etc/GMT-1
BEGIN:STANDARD
DTSTART:20010101T000000
TZOFFSETFROM:+0100
TZOFFSETTO:+0100
TZNAME:GMT +01:00
END:STANDARD
END:VTIMEZONE
BEGIN:VEVENT
UID:20260425T160225CEST-9685rKWos5@horsealert.local
DTSTAMP:20260425T140425Z
CATEGORIES:Horse Alerts
DESCRIPTION:Al Shahania Stakes \(Arab Race\)
DTSTART:20130616T153000
LOCATION:France
SUMMARY:Horse Racing:Al Shahania Stakes \(Arab Race\)
END:VEVENT
END:VCALENDAR
