BEGIN:VCALENDAR
VERSION:2.0
PRODID:-//horsealert.local//NONSGML kigkonsult.se iCalcreator 2.10.5//
CALSCALE:GREGORIAN
X-WR-TIMEZONE:Europe/Dublin
BEGIN:VTIMEZONE
TZID:Etc/GMT-1
BEGIN:STANDARD
DTSTART:20010101T000000
TZOFFSETFROM:+0100
TZOFFSETTO:+0100
TZNAME:GMT +01:00
END:STANDARD
END:VTIMEZONE
BEGIN:VEVENT
UID:20260425T160339CEST-4581Rzu2Ag@horsealert.local
DTSTAMP:20260425T140439Z
CATEGORIES:Horse Alerts
DESCRIPTION:FSB Mobile Card Payment Terminals Handicap \(Rnd\)
DTSTART:20130616T174500
LOCATION:England
SUMMARY:Horse Racing:FSB Mobile Card Payment Terminals Handicap \(Rnd\)
END:VEVENT
END:VCALENDAR
