BEGIN:VCALENDAR
VERSION:2.0
PRODID:-//horsealert.local//NONSGML kigkonsult.se iCalcreator 2.10.5//
CALSCALE:GREGORIAN
X-WR-TIMEZONE:Europe/Dublin
BEGIN:VTIMEZONE
TZID:Etc/GMT-1
BEGIN:STANDARD
DTSTART:20010101T000000
TZOFFSETFROM:+0100
TZOFFSETTO:+0100
TZNAME:GMT +01:00
END:STANDARD
END:VTIMEZONE
BEGIN:VEVENT
UID:20260425T160221CEST-7787ZAee3G@horsealert.local
DTSTAMP:20260425T140421Z
CATEGORIES:Horse Alerts
DESCRIPTION:Neptune Investment Management Handicap
DTSTART:20130614T143000
LOCATION:England
SUMMARY:Horse Racing:Neptune Investment Management Handicap
END:VEVENT
END:VCALENDAR
