BEGIN:VCALENDAR
VERSION:2.0
PRODID:-//horsealert.local//NONSGML kigkonsult.se iCalcreator 2.10.5//
CALSCALE:GREGORIAN
X-WR-TIMEZONE:Europe/Dublin
BEGIN:VTIMEZONE
TZID:Etc/GMT-1
BEGIN:STANDARD
DTSTART:20010101T000000
TZOFFSETFROM:+0100
TZOFFSETTO:+0100
TZNAME:GMT +01:00
END:STANDARD
END:VTIMEZONE
BEGIN:VEVENT
UID:20260425T160222CEST-1452HVbvXd@horsealert.local
DTSTAMP:20260425T140422Z
CATEGORIES:Horse Alerts
DESCRIPTION:Cwmtillery Glass Centre Maiden Handicap
DTSTART:20130614T180500
LOCATION:Wales
SUMMARY:Horse Racing:Cwmtillery Glass Centre Maiden Handicap
END:VEVENT
END:VCALENDAR
