BEGIN:VCALENDAR
VERSION:2.0
PRODID:-//horsealert.local//NONSGML kigkonsult.se iCalcreator 2.10.5//
CALSCALE:GREGORIAN
X-WR-TIMEZONE:Europe/Dublin
BEGIN:VTIMEZONE
TZID:Etc/GMT-1
BEGIN:STANDARD
DTSTART:20010101T000000
TZOFFSETFROM:+0100
TZOFFSETTO:+0100
TZNAME:GMT +01:00
END:STANDARD
END:VTIMEZONE
BEGIN:VEVENT
UID:20260425T160042CEST-5539xuWdcj@horsealert.local
DTSTAMP:20260425T140442Z
CATEGORIES:Horse Alerts
DESCRIPTION:1st Security Solutions Ltd Fillies\' Handicap \(Jockey Club Gra
 ssroots Middle Distance Series Qualifier\)
DTSTART:20130613T171500
LOCATION:England
SUMMARY:Horse Racing:1st Security Solutions Ltd Fillies\' Handicap \(Jockey
  Club Grassroots Middle Distance Series Qualifier\)
END:VEVENT
END:VCALENDAR
