BEGIN:VCALENDAR
VERSION:2.0
PRODID:-//horsealert.local//NONSGML kigkonsult.se iCalcreator 2.10.5//
CALSCALE:GREGORIAN
X-WR-TIMEZONE:Europe/Dublin
BEGIN:VTIMEZONE
TZID:Etc/GMT-1
BEGIN:STANDARD
DTSTART:20010101T000000
TZOFFSETFROM:+0100
TZOFFSETTO:+0100
TZNAME:GMT +01:00
END:STANDARD
END:VTIMEZONE
BEGIN:VEVENT
UID:20260425T160242CEST-26495Jdp6b@horsealert.local
DTSTAMP:20260425T140442Z
CATEGORIES:Horse Alerts
DESCRIPTION:Motor Neurone Fun Run At Fairyhouse On 29th June Handicap
DTSTART:20130612T190000
LOCATION:Eire
SUMMARY:Horse Racing:Motor Neurone Fun Run At Fairyhouse On 29th June Handi
 cap
END:VEVENT
END:VCALENDAR
