BEGIN:VCALENDAR
VERSION:2.0
PRODID:-//horsealert.local//NONSGML kigkonsult.se iCalcreator 2.10.5//
CALSCALE:GREGORIAN
X-WR-TIMEZONE:Europe/Dublin
BEGIN:VTIMEZONE
TZID:Etc/GMT-1
BEGIN:STANDARD
DTSTART:20010101T000000
TZOFFSETFROM:+0100
TZOFFSETTO:+0100
TZNAME:GMT +01:00
END:STANDARD
END:VTIMEZONE
BEGIN:VEVENT
UID:20260425T160236CEST-4479kn1G7V@horsealert.local
DTSTAMP:20260425T140436Z
CATEGORIES:Horse Alerts
DESCRIPTION:Compare Bookmakers On Your Mobile At bookmakers.co.uk Handicap 
 Chase
DTSTART:20130611T184000
LOCATION:England
SUMMARY:Horse Racing:Compare Bookmakers On Your Mobile At bookmakers.co.uk 
 Handicap Chase
END:VEVENT
END:VCALENDAR
