BEGIN:VCALENDAR
VERSION:2.0
PRODID:-//horsealert.local//NONSGML kigkonsult.se iCalcreator 2.10.5//
CALSCALE:GREGORIAN
X-WR-TIMEZONE:Europe/Dublin
BEGIN:VTIMEZONE
TZID:Etc/GMT-1
BEGIN:STANDARD
DTSTART:20010101T000000
TZOFFSETFROM:+0100
TZOFFSETTO:+0100
TZNAME:GMT +01:00
END:STANDARD
END:VTIMEZONE
BEGIN:VEVENT
UID:20260425T160238CEST-8988JTVvzI@horsealert.local
DTSTAMP:20260425T140438Z
CATEGORIES:Horse Alerts
DESCRIPTION:Clairefontaine En Yvelines Claiming Stakes
DTSTART:20130611T140500
LOCATION:France
SUMMARY:Horse Racing:Clairefontaine En Yvelines Claiming Stakes
END:VEVENT
END:VCALENDAR
