BEGIN:VCALENDAR
VERSION:2.0
PRODID:-//horsealert.local//NONSGML kigkonsult.se iCalcreator 2.10.5//
CALSCALE:GREGORIAN
X-WR-TIMEZONE:Europe/Dublin
BEGIN:VTIMEZONE
TZID:Etc/GMT-1
BEGIN:STANDARD
DTSTART:20010101T000000
TZOFFSETFROM:+0100
TZOFFSETTO:+0100
TZNAME:GMT +01:00
END:STANDARD
END:VTIMEZONE
BEGIN:VEVENT
UID:20260425T160213CEST-94468CaO8c@horsealert.local
DTSTAMP:20260425T140413Z
CATEGORIES:Horse Alerts
DESCRIPTION:Murrayshall Hotel Golf/Racing Break Maiden Hurdle \(For The Pro
 vost\'s Plate Challenge Trophy\)
DTSTART:20130609T143000
LOCATION:Scotland
SUMMARY:Horse Racing:Murrayshall Hotel Golf/Racing Break Maiden Hurdle \(Fo
 r The Provost\'s Plate Challenge Trophy\)
END:VEVENT
END:VCALENDAR
