BEGIN:VCALENDAR
VERSION:2.0
PRODID:-//horsealert.local//NONSGML kigkonsult.se iCalcreator 2.10.5//
CALSCALE:GREGORIAN
X-WR-TIMEZONE:Europe/Dublin
BEGIN:VTIMEZONE
TZID:Etc/GMT-1
BEGIN:STANDARD
DTSTART:20010101T000000
TZOFFSETFROM:+0100
TZOFFSETTO:+0100
TZNAME:GMT +01:00
END:STANDARD
END:VTIMEZONE
BEGIN:VEVENT
UID:20260425T160222CEST-4167vmnpM3@horsealert.local
DTSTAMP:20260425T140422Z
CATEGORIES:Horse Alerts
DESCRIPTION:Irish E.B.F. Your Expert Guide nottinghamracecoursetips.co.uk M
 aiden Stakes
DTSTART:20130609T141500
LOCATION:England
SUMMARY:Horse Racing:Irish E.B.F. Your Expert Guide nottinghamracecoursetip
 s.co.uk Maiden Stakes
END:VEVENT
END:VCALENDAR
