BEGIN:VCALENDAR
VERSION:2.0
PRODID:-//horsealert.local//NONSGML kigkonsult.se iCalcreator 2.10.5//
CALSCALE:GREGORIAN
X-WR-TIMEZONE:Europe/Dublin
BEGIN:VTIMEZONE
TZID:Etc/GMT-1
BEGIN:STANDARD
DTSTART:20010101T000000
TZOFFSETFROM:+0100
TZOFFSETTO:+0100
TZNAME:GMT +01:00
END:STANDARD
END:VTIMEZONE
BEGIN:VEVENT
UID:20260425T160221CEST-8702EuiFF2@horsealert.local
DTSTAMP:20260425T140421Z
CATEGORIES:Horse Alerts
DESCRIPTION:Support The Hunt Staff Benefit Society Maiden Open NH Flat Race
DTSTART:20130608T211500
LOCATION:England
SUMMARY:Horse Racing:Support The Hunt Staff Benefit Society Maiden Open NH 
 Flat Race
END:VEVENT
END:VCALENDAR
