BEGIN:VCALENDAR
VERSION:2.0
PRODID:-//horsealert.local//NONSGML kigkonsult.se iCalcreator 2.10.5//
CALSCALE:GREGORIAN
X-WR-TIMEZONE:Europe/Dublin
BEGIN:VTIMEZONE
TZID:Etc/GMT-1
BEGIN:STANDARD
DTSTART:20010101T000000
TZOFFSETFROM:+0100
TZOFFSETTO:+0100
TZNAME:GMT +01:00
END:STANDARD
END:VTIMEZONE
BEGIN:VEVENT
UID:20260425T160042CEST-4620C4ihjJ@horsealert.local
DTSTAMP:20260425T140442Z
CATEGORIES:Horse Alerts
DESCRIPTION:Limerick The Warwickshire Hound Handicap Chase \(For The Gambli
 ng Prince Trophy\)
DTSTART:20130608T194500
LOCATION:England
SUMMARY:Horse Racing:Limerick The Warwickshire Hound Handicap Chase \(For T
 he Gambling Prince Trophy\)
END:VEVENT
END:VCALENDAR
