BEGIN:VCALENDAR
VERSION:2.0
PRODID:-//horsealert.local//NONSGML kigkonsult.se iCalcreator 2.10.5//
CALSCALE:GREGORIAN
X-WR-TIMEZONE:Europe/Dublin
BEGIN:VTIMEZONE
TZID:Etc/GMT-1
BEGIN:STANDARD
DTSTART:20010101T000000
TZOFFSETFROM:+0100
TZOFFSETTO:+0100
TZNAME:GMT +01:00
END:STANDARD
END:VTIMEZONE
BEGIN:VEVENT
UID:20260425T160222CEST-8729F52uWh@horsealert.local
DTSTAMP:20260425T140422Z
CATEGORIES:Horse Alerts
DESCRIPTION:Relyon Cleaning Newbury Maiden Auction Fillies\' Stakes
DTSTART:20130608T190000
LOCATION:England
SUMMARY:Horse Racing:Relyon Cleaning Newbury Maiden Auction Fillies\' Stake
 s
END:VEVENT
END:VCALENDAR
