BEGIN:VCALENDAR
VERSION:2.0
PRODID:-//horsealert.local//NONSGML kigkonsult.se iCalcreator 2.10.5//
CALSCALE:GREGORIAN
X-WR-TIMEZONE:Europe/Dublin
BEGIN:VTIMEZONE
TZID:Etc/GMT-1
BEGIN:STANDARD
DTSTART:20010101T000000
TZOFFSETFROM:+0100
TZOFFSETTO:+0100
TZNAME:GMT +01:00
END:STANDARD
END:VTIMEZONE
BEGIN:VEVENT
UID:20260425T175354CEST-81773iW0AU@horsealert.local
DTSTAMP:20260425T150454Z
CATEGORIES:Horse Alerts
DESCRIPTION:W+S Recycling Stratford Foxhunters Champion Hunters\' Chase \(5
 5th Running\)
DTSTART:20130607T203000
LOCATION:England
SUMMARY:Horse Racing:W+S Recycling Stratford Foxhunters Champion Hunters\' 
 Chase \(55th Running\)
END:VEVENT
END:VCALENDAR
