BEGIN:VCALENDAR
VERSION:2.0
PRODID:-//horsealert.local//NONSGML kigkonsult.se iCalcreator 2.10.5//
CALSCALE:GREGORIAN
X-WR-TIMEZONE:Europe/Dublin
BEGIN:VTIMEZONE
TZID:Etc/GMT-1
BEGIN:STANDARD
DTSTART:20010101T000000
TZOFFSETFROM:+0100
TZOFFSETTO:+0100
TZNAME:GMT +01:00
END:STANDARD
END:VTIMEZONE
BEGIN:VEVENT
UID:20260425T160237CEST-7201Zh4Bau@horsealert.local
DTSTAMP:20260425T140437Z
CATEGORIES:Horse Alerts
DESCRIPTION:Aga Ladies Open Point-To-Point Championship Final \(Lady Riders
 \' Hunters\' Chase\)
DTSTART:20130607T185500
LOCATION:England
SUMMARY:Horse Racing:Aga Ladies Open Point-To-Point Championship Final \(La
 dy Riders\' Hunters\' Chase\)
END:VEVENT
END:VCALENDAR
