BEGIN:VCALENDAR
VERSION:2.0
PRODID:-//horsealert.local//NONSGML kigkonsult.se iCalcreator 2.10.5//
CALSCALE:GREGORIAN
X-WR-TIMEZONE:Europe/Dublin
BEGIN:VTIMEZONE
TZID:Etc/GMT-1
BEGIN:STANDARD
DTSTART:20010101T000000
TZOFFSETFROM:+0100
TZOFFSETTO:+0100
TZNAME:GMT +01:00
END:STANDARD
END:VTIMEZONE
BEGIN:VEVENT
UID:20260425T160349CEST-0170I0sFCe@horsealert.local
DTSTAMP:20260425T140449Z
CATEGORIES:Horse Alerts
DESCRIPTION:Star Sports Supports St Catherine\'s Hospice Raceday Handicap \
 (AWT\)
DTSTART:20130607T173500
LOCATION:England
SUMMARY:Horse Racing:Star Sports Supports St Catherine\'s Hospice Raceday H
 andicap \(AWT\)
END:VEVENT
END:VCALENDAR
