BEGIN:VCALENDAR
VERSION:2.0
PRODID:-//horsealert.local//NONSGML kigkonsult.se iCalcreator 2.10.5//
CALSCALE:GREGORIAN
X-WR-TIMEZONE:Europe/Dublin
BEGIN:VTIMEZONE
TZID:Etc/GMT-1
BEGIN:STANDARD
DTSTART:20010101T000000
TZOFFSETFROM:+0100
TZOFFSETTO:+0100
TZNAME:GMT +01:00
END:STANDARD
END:VTIMEZONE
BEGIN:VEVENT
UID:20260425T160410CEST-251902tVAc@horsealert.local
DTSTAMP:20260425T140410Z
CATEGORIES:Horse Alerts
DESCRIPTION:Claire & Dave\'s 20th Anniversary Celebration Standard NH Flat 
 Race \(Conditional/Amateur\)
DTSTART:20130606T190000
LOCATION:England
SUMMARY:Horse Racing:Claire & Dave\'s 20th Anniversary Celebration Standard
  NH Flat Race \(Conditional/Amateur\)
END:VEVENT
END:VCALENDAR
